BEGIN:VCALENDAR
VERSION:2.0
PRODID:-//Hällsnäs - ECPv6.15.20//NONSGML v1.0//EN
CALSCALE:GREGORIAN
METHOD:PUBLISH
X-WR-CALNAME:Hällsnäs
X-ORIGINAL-URL:https://hallsnas.se
X-WR-CALDESC:Händelser för Hällsnäs
REFRESH-INTERVAL;VALUE=DURATION:PT1H
X-Robots-Tag:noindex
X-PUBLISHED-TTL:PT1H
BEGIN:VTIMEZONE
TZID:Europe/Stockholm
BEGIN:DAYLIGHT
TZOFFSETFROM:+0100
TZOFFSETTO:+0200
TZNAME:CEST
DTSTART:20250330T010000
END:DAYLIGHT
BEGIN:STANDARD
TZOFFSETFROM:+0200
TZOFFSETTO:+0100
TZNAME:CET
DTSTART:20251026T010000
END:STANDARD
BEGIN:DAYLIGHT
TZOFFSETFROM:+0100
TZOFFSETTO:+0200
TZNAME:CEST
DTSTART:20260329T010000
END:DAYLIGHT
BEGIN:STANDARD
TZOFFSETFROM:+0200
TZOFFSETTO:+0100
TZNAME:CET
DTSTART:20261025T010000
END:STANDARD
BEGIN:DAYLIGHT
TZOFFSETFROM:+0100
TZOFFSETTO:+0200
TZNAME:CEST
DTSTART:20270328T010000
END:DAYLIGHT
BEGIN:STANDARD
TZOFFSETFROM:+0200
TZOFFSETTO:+0100
TZNAME:CET
DTSTART:20271031T010000
END:STANDARD
END:VTIMEZONE
BEGIN:VEVENT
DTSTART;VALUE=DATE:20260515
DTEND;VALUE=DATE:20260516
DTSTAMP:20260421T234222
CREATED:20260409T062023Z
LAST-MODIFIED:20260409T062023Z
UID:10000317-1778803200-1778889599@hallsnas.se
SUMMARY:Macallan Whiskyprovning
DESCRIPTION:Whiskyprovning och 4-rättersmiddag\nWhisky ligger oss varmt om hjärtat här på Hällsnäs och whiskyprovning är därför ett stående event hos oss. Vår whiskyprovning tar dig med på en resa där hantverksmässig whisky står i fokus. Med kunniga guider får ni en lärorik och unik upplevelse. Efter provningen fortsätter kvällen i vår restaurang Sjöö\, där du avnjuter en utsökt 4-rätters middag och kan fortsätta samtalen. \n17:00 Whiskyprovning\nDärefter serveras 4-rätters middag \nPris för provning och middag 1245 kr/ person. \nBoka boendepaket\n  \nBoka provning & middag
URL:https://hallsnas.se/events/macallan-whiskyprovning-15maj/
ATTACH;FMTTYPE=image/jpeg:https://hallsnas.se/wp-content/uploads/2025/11/macallan.jpg
END:VEVENT
BEGIN:VEVENT
DTSTART;VALUE=DATE:20260516
DTEND;VALUE=DATE:20260517
DTSTAMP:20260421T234222
CREATED:20260409T061653Z
LAST-MODIFIED:20260409T061653Z
UID:10000316-1778889600-1778975999@hallsnas.se
SUMMARY:Ginprovning
DESCRIPTION:Ginprovning med middag på Hällsnäs\nVälkommen till en unik upplevelse på Hällsnäs\, bara ett stenkast från Göteborg! Vår ginprovning tar dig med på en resa där hantverksmässig gin står i fokus. Med kunniga guider får ni en lärorik och unik upplevelse. Efter provningen fortsätter kvällen i vår restaurang Sjöö\, där du avnjuter en utsökt 4-rätters middag och kan fortsätta samtalen. \n\n17:00 Whiskyprovning\nDärefter serveras 4-rätters middag\n\nBoka boendepaket\n  \nBoka provning & middag
URL:https://hallsnas.se/events/ginprovning-16maj/
ATTACH;FMTTYPE=image/jpeg:https://hallsnas.se/wp-content/uploads/2022/07/image1-scaled.jpeg
END:VEVENT
BEGIN:VEVENT
DTSTART;VALUE=DATE:20260529
DTEND;VALUE=DATE:20260530
DTSTAMP:20260421T234222
CREATED:20260409T062453Z
LAST-MODIFIED:20260409T062640Z
UID:10000319-1780012800-1780099199@hallsnas.se
SUMMARY:Ginprovning
DESCRIPTION:Ginprovning med middag på Hällsnäs\nVälkommen till en unik upplevelse på Hällsnäs\, bara ett stenkast från Göteborg! Vår ginprovning tar dig med på en resa där hantverksmässig gin står i fokus. Med kunniga guider får ni en lärorik och unik upplevelse. Efter provningen fortsätter kvällen i vår restaurang Sjöö\, där du avnjuter en utsökt 4-rätters middag och kan fortsätta samtalen. \n\n17:00 Whiskyprovning\nDärefter serveras 4-rätters middag\n\nBoka boendepaket\n  \nBoka provning & middag
URL:https://hallsnas.se/events/ginprovning-29maj/
ATTACH;FMTTYPE=image/jpeg:https://hallsnas.se/wp-content/uploads/2022/07/image1-scaled.jpeg
END:VEVENT
BEGIN:VEVENT
DTSTART;VALUE=DATE:20260530
DTEND;VALUE=DATE:20260531
DTSTAMP:20260421T234222
CREATED:20260409T062257Z
LAST-MODIFIED:20260409T062548Z
UID:10000318-1780099200-1780185599@hallsnas.se
SUMMARY:Macallan Whiskyprovning
DESCRIPTION:Whiskyprovning och 4-rättersmiddag\nWhisky ligger oss varmt om hjärtat här på Hällsnäs och whiskyprovning är därför ett stående event hos oss. Vår whiskyprovning tar dig med på en resa där hantverksmässig whisky står i fokus. Med kunniga guider får ni en lärorik och unik upplevelse. Efter provningen fortsätter kvällen i vår restaurang Sjöö\, där du avnjuter en utsökt 4-rätters middag och kan fortsätta samtalen. \n17:00 Whiskyprovning\nDärefter serveras 4-rätters middag \nPris för provning och middag 1245 kr/ person. \nBoka boendepaket\n  \nBoka provning & middag
URL:https://hallsnas.se/events/macallan-whiskyprovning-30maj/
ATTACH;FMTTYPE=image/jpeg:https://hallsnas.se/wp-content/uploads/2025/11/macallan.jpg
END:VEVENT
BEGIN:VEVENT
DTSTART;VALUE=DATE:20260531
DTEND;VALUE=DATE:20260601
DTSTAMP:20260421T234222
CREATED:20240228T100135Z
LAST-MODIFIED:20260421T111144Z
UID:10000184-1780185600-1780271999@hallsnas.se
SUMMARY:Mors dag
DESCRIPTION:Fira Mors dag den 31 maj\nSkäm bort mamma med en minnesvärd dag- fira Morsdag på Hällsnäs!\nNjut av en vällagad 3-rätters meny på natursköna restaurang Sjöö. Menyn kommer att bjuda på det bästa våren har att erbjuda så som sparris och rabarber. \nPris 595 kr/person.\nTid: Det finns flera sittningstider att välja mellan\, från 12:00-19:30 \nFör alla barn finns separat barnmeny. \nLäs mer & boka >>> \n  \n 
URL:https://hallsnas.se/events/mors-dag-2026/
ATTACH;FMTTYPE=image/jpeg:https://hallsnas.se/wp-content/uploads/2024/02/hallsnas-print-6481-1-scaled-e1775553425336.jpg
ORGANIZER;CN="Bokningsuppgifter":MAILTO:info@hallsnas.se
END:VEVENT
BEGIN:VEVENT
DTSTART;VALUE=DATE:20261120
DTEND;VALUE=DATE:20261121
DTSTAMP:20260421T234222
CREATED:20251219T110756Z
LAST-MODIFIED:20251219T111129Z
UID:10000304-1795132800-1795219199@hallsnas.se
SUMMARY:Julbordspremiär 2026
DESCRIPTION:Thomas Sjögrens hyllade julbord på Hällsnäs.\n20 november inleds den mest glittrande och charmiga tiden på Hällsnäs- vårt julbord startar. Ett julbord utöver det vanliga precis utanför Göteborg\, signerat Thomas Sjögren (Årets kock 2015) med kollegor. Upplägget är delvis traditionellt men även fokuserat kring vilt\, grönsaker samt fisk & skaldjur\, allt för att skapa ett hållbart\, nytänkande och lekfullt julbord. \nVårt dignande julbord serveras 20 november – 22 december. \nTider\n\nMåndag- onsdag från kl.18:00\nTorsdag från kl. 16:30\nFredag-söndag från kl.11:30\n\nPriser\n\nMåndag – torsdag: 995:-\nFredag- söndag 1295:-\nBarn 0-4år: gratis. Barn 5-12 år: 195:- \n\n>> Boka bord
URL:https://hallsnas.se/events/julbordspremiar-2026/
ATTACH;FMTTYPE=image/jpeg:https://hallsnas.se/wp-content/uploads/2023/08/julbord-hallsnas-pao-duell-74.jpg
ORGANIZER;CN="Bokningsuppgifter":MAILTO:info@hallsnas.se
END:VEVENT
END:VCALENDAR