BEGIN:VCALENDAR
VERSION:2.0
PRODID:-//Hällsnäs - ECPv6.15.20//NONSGML v1.0//EN
CALSCALE:GREGORIAN
METHOD:PUBLISH
X-ORIGINAL-URL:https://hallsnas.se
X-WR-CALDESC:Events for Hällsnäs
REFRESH-INTERVAL;VALUE=DURATION:PT1H
X-Robots-Tag:noindex
X-PUBLISHED-TTL:PT1H
BEGIN:VTIMEZONE
TZID:Europe/Stockholm
BEGIN:DAYLIGHT
TZOFFSETFROM:+0100
TZOFFSETTO:+0200
TZNAME:CEST
DTSTART:20250330T010000
END:DAYLIGHT
BEGIN:STANDARD
TZOFFSETFROM:+0200
TZOFFSETTO:+0100
TZNAME:CET
DTSTART:20251026T010000
END:STANDARD
BEGIN:DAYLIGHT
TZOFFSETFROM:+0100
TZOFFSETTO:+0200
TZNAME:CEST
DTSTART:20260329T010000
END:DAYLIGHT
BEGIN:STANDARD
TZOFFSETFROM:+0200
TZOFFSETTO:+0100
TZNAME:CET
DTSTART:20261025T010000
END:STANDARD
BEGIN:DAYLIGHT
TZOFFSETFROM:+0100
TZOFFSETTO:+0200
TZNAME:CEST
DTSTART:20270328T010000
END:DAYLIGHT
BEGIN:STANDARD
TZOFFSETFROM:+0200
TZOFFSETTO:+0100
TZNAME:CET
DTSTART:20271031T010000
END:STANDARD
END:VTIMEZONE
BEGIN:VEVENT
DTSTART;VALUE=DATE:20260529
DTEND;VALUE=DATE:20260530
DTSTAMP:20260421T124110
CREATED:20260223T135214Z
LAST-MODIFIED:20260223T135214Z
UID:10000312-1780012800-1780099199@hallsnas.se
SUMMARY:Gin tasting & 4-course dinner
DESCRIPTION:Gin tasting & 4-course dinner\nWelcome to a unique experience at Hällsnäs\, just a stone’s throw from Gothenburg! Our gin tasting takes you on a journey with a focus on artisanal gin. Guided by knowledgeable experts\, you’ll enjoy an educational and memorable experience. After the tasting\, the evening continues in our restaurant Sjöö\, where you can savor an exquisite 4-course dinner and continue the conversation. \n\n5 PM Gin tasting\nFollowd by a 4-course dinner\n\nBook accomondation package\n  \nBook tasting & dinner\n 
URL:https://hallsnas.se/events/gin-tasting-4-course-dinner-2/
ATTACH;FMTTYPE=image/jpeg:https://hallsnas.se/wp-content/uploads/2022/07/image1-scaled.jpeg
END:VEVENT
BEGIN:VEVENT
DTSTART;VALUE=DATE:20260530
DTEND;VALUE=DATE:20260531
DTSTAMP:20260421T124110
CREATED:20250825T105224Z
LAST-MODIFIED:20260223T125213Z
UID:10000289-1780099200-1780185599@hallsnas.se
SUMMARY:Whisky Tasting and 4-Course Dinner
DESCRIPTION:Whisky holds a special place in our hearts here at Hällsnäs\, which is why whisky tastings are a regular event with us. Our whisky tasting takes you on a journey focused on handcrafted whisky. Guided by knowledgeable experts\, you’ll enjoy an educational and unique experience. After the tasting\, the evening continues in our restaurant Sjöö\, where you can savor an exquisite 4-course dinner and carry on the conversations. \n17:00 – Whisky TastingFollowed by a 4-course dinner \nRead more & book the accommodation Package \nBook tasting & dinner
URL:https://hallsnas.se/events/whisky-tasting-and-4-course-dinner/
ATTACH;FMTTYPE=image/jpeg:https://hallsnas.se/wp-content/uploads/2025/11/macallan.jpg
END:VEVENT
END:VCALENDAR